BEGIN:VCALENDAR
VERSION:2.0
PRODID:-//Manship Artists Residency - ECPv6.15.18//NONSGML v1.0//EN
CALSCALE:GREGORIAN
METHOD:PUBLISH
X-ORIGINAL-URL:https://manshipartists.org
X-WR-CALDESC:Events for Manship Artists Residency
REFRESH-INTERVAL;VALUE=DURATION:PT1H
X-Robots-Tag:noindex
X-PUBLISHED-TTL:PT1H
BEGIN:VTIMEZONE
TZID:America/New_York
BEGIN:DAYLIGHT
TZOFFSETFROM:-0500
TZOFFSETTO:-0400
TZNAME:EDT
DTSTART:20240310T070000
END:DAYLIGHT
BEGIN:STANDARD
TZOFFSETFROM:-0400
TZOFFSETTO:-0500
TZNAME:EST
DTSTART:20241103T060000
END:STANDARD
BEGIN:DAYLIGHT
TZOFFSETFROM:-0500
TZOFFSETTO:-0400
TZNAME:EDT
DTSTART:20250309T070000
END:DAYLIGHT
BEGIN:STANDARD
TZOFFSETFROM:-0400
TZOFFSETTO:-0500
TZNAME:EST
DTSTART:20251102T060000
END:STANDARD
BEGIN:DAYLIGHT
TZOFFSETFROM:-0500
TZOFFSETTO:-0400
TZNAME:EDT
DTSTART:20260308T070000
END:DAYLIGHT
BEGIN:STANDARD
TZOFFSETFROM:-0400
TZOFFSETTO:-0500
TZNAME:EST
DTSTART:20261101T060000
END:STANDARD
END:VTIMEZONE
BEGIN:VEVENT
DTSTART;TZID=America/New_York:20251101T100000
DTEND;TZID=America/New_York:20251102T170000
DTSTAMP:20260422T091323
CREATED:20250927T011929Z
LAST-MODIFIED:20250930T085803Z
UID:4278-1761991200-1762102800@manshipartists.org
SUMMARY:Abundance Sauna in Residence
DESCRIPTION:Abundance Sauna will be returning to Starfield for a Fall Sauna Residency on Saturday and Sunday November 1-2\, 2025. \nSessions will be available starting at 10:00am on Saturday\, November 1. Each 1 hour session is $70\, regardless of the number of people in your party. \nThe sauna comfortably accommodates 3 people. Sessions are 50 minutes of heat. There are several hour and a half sessions available. You are welcome to book available consecutive sessions for a longer sauna experience. \nExperience the dynamic change of seasons with this timeless tradition in this unique and glorious location. \nEach participant must provide their own towels\, swimsuits and hydration. \nPreregistration is required here. A liability waiver must be signed by each participant. \nIf all sessions fill\, there will be waitlist.
URL:https://manshipartists.org/event/abundance-sauna-in-residence
LOCATION:MA
ATTACH;FMTTYPE=image/png:https://manshipartists.org/wp-content/uploads/2025/09/Screenshot-2025-09-26-at-2.11.09-PM.png
END:VEVENT
END:VCALENDAR